BEGIN:VCALENDAR
PRODID:-//kirchenweb.ch gmbh//veranstaltungsausgabe v2.0//DE
VERSION:2.0
METHOD:PUBLISH
BEGIN:VEVENT
DTSTART:20251123T084500Z
DTEND:20251123T094500Z
LOCATION:Kirche Löhningen\, Kloster 3\, 8224 Löhningen
TRANSP:OPAQUE
SEQUENCE:0
UID:170863-veranstaltung@ref-sh.ch
DTSTAMP:20251230T173803Z
DESCRIPTION:Gottesdienst zum Ewigkeitssonntag mit Pfarrer Lukas Huber; der
  im Kirchenjahr 2024–25 Verstorbenen wird gedacht.\n\n\n\n\nKontakt:
  Pfarrer Lukas Huber\n\nWeitere Infos:
  https://www.ref-sh.ch/veranstaltung/170863
SUMMARY:Gottesdienst zum Ewigkeitssonntag
PRIORITY:5
X-MICROSOFT-CDO-IMPORTANCE:1
CLASS:PUBLIC
END:VEVENT
END:VCALENDAR
