BEGIN:VCALENDAR
PRODID:-//kirchenweb.ch gmbh//veranstaltungsausgabe v2.0//DE
VERSION:2.0
METHOD:PUBLISH
BEGIN:VEVENT
DTSTART:20251115T170000Z
DTEND:20251115T180000Z
LOCATION:Kirche Löhningen\, Kloster 3\, 8224 Löhningen
TRANSP:OPAQUE
SEQUENCE:0
UID:170862-veranstaltung@ref-sh.ch
DTSTAMP:20251116T090823Z
DESCRIPTION:Familienkompatibler Samstagabend-Gottesdienst mit Lukas Huber
  in der Kirche Löhningen.\n\nAnschliessend Apéro riche.\n\nKontakt:
  Pfarrer Lukas P. Huber\n\nWeitere Infos:
  https://www.ref-sh.ch/veranstaltung/170862
SUMMARY:Samstagabend-Gottesdienst
PRIORITY:5
X-MICROSOFT-CDO-IMPORTANCE:1
CLASS:PUBLIC
END:VEVENT
END:VCALENDAR
