BEGIN:VCALENDAR
PRODID:-//kirchenweb.ch gmbh//veranstaltungsausgabe v2.0//DE
VERSION:2.0
METHOD:PUBLISH
BEGIN:VEVENT
DTSTART:20250727T074500Z
DTEND:20250727T084500Z
LOCATION:Kirche Löhningen\, Kloster 3\, 8224 Löhningen
TRANSP:OPAQUE
SEQUENCE:0
UID:170841-veranstaltung@ref-sh.ch
DTSTAMP:20250727T152723Z
DESCRIPTION:Regio-Gottesdienst in der Kirche Löhningen. Anschliessend
  Aperitif.\n\nDie Kirchgemeinde Beringen ist auch eingeladen in diesen
  Gottesdienst.\n\nKontakt: Pfarrer Lukas P. Huber\n\nWeitere Infos:
  https://www.ref-sh.ch/veranstaltung/170841
SUMMARY:Regio-Gottesdienst
PRIORITY:5
X-MICROSOFT-CDO-IMPORTANCE:1
CLASS:PUBLIC
END:VEVENT
END:VCALENDAR
