BEGIN:VCALENDAR
PRODID:-//kirchenweb.ch gmbh//veranstaltungsausgabe v2.0//DE
VERSION:2.0
METHOD:PUBLISH
BEGIN:VEVENT
DTSTART:20250612T120000Z
DTEND:20250612T144500Z
LOCATION:Pfarrhaus Münsterplatz \, Münsterplatz 32\, 8200 Schaffhausen
TRANSP:OPAQUE
SEQUENCE:0
UID:170673-veranstaltung@ref-sh.ch
DTSTAMP:20250603T134252Z
DESCRIPTION:Die Bibel als spannendes Buch und Forschungsobjekt steht im
  Mittelpunkt unseres Unterrichts.\n\n\nKontakt: Pfarrer Roland Diethelm\n
 \nWeitere Infos: https://www.ref-sh.ch/veranstaltung/170673
SUMMARY:Religionsunterricht Fünftklässler
PRIORITY:5
X-MICROSOFT-CDO-IMPORTANCE:1
CLASS:PUBLIC
END:VEVENT
END:VCALENDAR
