BEGIN:VCALENDAR
PRODID:-//kirchenweb.ch gmbh//veranstaltungsausgabe v2.0//DE
VERSION:2.0
METHOD:PUBLISH
BEGIN:VEVENT
DTSTART:20241123T090000Z
DTEND:20241123T150000Z
LOCATION:Zwinglikirche Schaffhausen\, Hochstrasse 202 \, 8200 Schaffhausen
TRANSP:OPAQUE
SEQUENCE:0
UID:170653-veranstaltung@ref-sh.ch
DTSTAMP:20241120T134250Z
DESCRIPTION:Der diesjährige Schaffhauser Konftag findet in der
  Zwinglikirche statt zum Thema Nachhaltigkeit/ Bewahrung der Schöpfung.\n
 \nKontakt: \n\nWeitere Infos: https://www.ref-sh.ch/veranstaltung/170653
SUMMARY:Konftag
PRIORITY:5
X-MICROSOFT-CDO-IMPORTANCE:1
CLASS:PUBLIC
END:VEVENT
END:VCALENDAR
