BEGIN:VCALENDAR
PRODID:-//kirchenweb.ch gmbh//veranstaltungsausgabe v2.0//DE
VERSION:2.0
METHOD:PUBLISH
BEGIN:VEVENT
DTSTART:20251207T160000Z
DTEND:20251207T170000Z
LOCATION:Treffpunkt vor der Kirche Löhningen\, Kloster 3\, 8224
  Löhningen
TRANSP:OPAQUE
SEQUENCE:0
UID:170502-veranstaltung@ref-sh.ch
DTSTAMP:20251208T060530Z
DESCRIPTION:Gottesdienst zu den Löhninger Adventsfenstern\, mit
  Ziitfenschter-Team.\n\nBitte warme Kleider und Taschenlampe mitnehmen\,
  wir sind im Dorf unterwegs und singen ab einem Liederblatt\n
 \nAnschliessend «Stubete» vor der Kirche/im Mesmerhuus.\n\n\n\nKontakt:
  Pfarrer Lukas Huber\n\nWeitere Infos:
  https://www.ref-sh.ch/veranstaltung/170502
SUMMARY:Adventsfenster-Gottesdienst mit Ziitfenschter-Team
PRIORITY:5
X-MICROSOFT-CDO-IMPORTANCE:1
CLASS:PUBLIC
END:VEVENT
END:VCALENDAR
