BEGIN:VCALENDAR
PRODID:-//kirchenweb.ch gmbh//veranstaltungsausgabe v2.0//DE
VERSION:2.0
METHOD:PUBLISH
BEGIN:VEVENT
DTSTART:20250622T074500Z
DTEND:20250622T084500Z
LOCATION:Kirche\, Kloster\, 8224 Löhningen
TRANSP:OPAQUE
SEQUENCE:0
UID:170499-veranstaltung@ref-sh.ch
DTSTAMP:20250622T154311Z
DESCRIPTION:Gottesdienst mit dem Ziitfenschter-Team\n\nKontakt: Lukas
  Huber\n\nWeitere Infos: https://www.ref-sh.ch/veranstaltung/170499
SUMMARY:Ziitfenschter-Gottesdienst
PRIORITY:5
X-MICROSOFT-CDO-IMPORTANCE:1
CLASS:PUBLIC
END:VEVENT
END:VCALENDAR
