BEGIN:VCALENDAR
PRODID:-//kirchenweb.ch gmbh//veranstaltungsausgabe v2.0//DE
VERSION:2.0
METHOD:PUBLISH
BEGIN:VEVENT
DTSTART:20241204T090000Z
DTEND:20241204T100000Z
LOCATION:Kirche Löhningen\, \,
TRANSP:OPAQUE
SEQUENCE:0
UID:170280-veranstaltung@ref-sh.ch
DTSTAMP:20241126T215430Z
DESCRIPTION:Kontakt: darja.weber@ref-sh.ch\n\nWeitere Infos:
  https://www.ref-sh.ch/veranstaltung/170280
SUMMARY:Fiire mit de Chliine
PRIORITY:5
X-MICROSOFT-CDO-IMPORTANCE:1
CLASS:PUBLIC
END:VEVENT
END:VCALENDAR
