BEGIN:VCALENDAR
PRODID:-//kirchenweb.ch gmbh//veranstaltungsausgabe v2.0//DE
VERSION:2.0
METHOD:PUBLISH
BEGIN:VEVENT
DTSTART:20241106T080000Z
DTEND:20241106T103000Z
LOCATION:NACHBAR Stahlgiesserei\, zur Stahlgiesserei 15B\, 8200
  Schaffhausen
TRANSP:OPAQUE
SEQUENCE:0
UID:170258-veranstaltung@ref-sh.ch
DTSTAMP:20241015T153006Z
DESCRIPTION:Mach mal Pause!\nEinen feinen Kafi zwischendurch an der Bar\,
  einen Genussmoment mit Gipfeli in der Sofaecke\, eine Partie Schach\, ein
  paar Takte am Klavier oder ein zufälliges Gespräch… viel ist möglich
  am Mittwochmorgen in der NACHBAR. Du bist willkommen (mit und ohne
  Laptop)!\nÖffnungszeit: jeweils von 9.00 – 11.30 Uhr am Mittwoch\n\n
 \nKontakt: Pfrn. Miriam Gehrke\n\nWeitere Infos:
  https://www.ref-sh.ch/veranstaltung/170258
SUMMARY:Mach mal Pause...in der NACHBAR
PRIORITY:5
X-MICROSOFT-CDO-IMPORTANCE:1
CLASS:PUBLIC
END:VEVENT
END:VCALENDAR
