BEGIN:VCALENDAR
PRODID:-//kirchenweb.ch gmbh//veranstaltungsausgabe v2.0//DE
VERSION:2.0
METHOD:PUBLISH
BEGIN:VEVENT
DTSTART:20250513T052000Z
DTEND:20250513T060500Z
LOCATION:Kirchgemeindehaus Beringen\, Steig 2\, 8222 Beringen
TRANSP:OPAQUE
SEQUENCE:0
UID:170157-veranstaltung@ref-sh.ch
DTSTAMP:20240807T131257Z
DESCRIPTION:Kontakt: Anita Bischof\n\nWeitere Infos:
  https://www.ref-sh.ch/veranstaltung/170157
SUMMARY:3.Klass Unti
PRIORITY:5
X-MICROSOFT-CDO-IMPORTANCE:1
CLASS:PUBLIC
END:VEVENT
END:VCALENDAR
