BEGIN:VCALENDAR
PRODID:-//kirchenweb.ch gmbh//veranstaltungsausgabe v2.0//DE
VERSION:2.0
METHOD:PUBLISH
BEGIN:VEVENT
DTSTART:20240915T070000Z
DTEND:20240915T100000Z
LOCATION:Treffpunkt Gemeindehaus\, \,
TRANSP:OPAQUE
SEQUENCE:0
UID:170059-veranstaltung@ref-sh.ch
DTSTAMP:20240804T125943Z
DESCRIPTION:Kontakt: monika.wieser@ref-sh.ch\n\nWeitere Infos:
  https://www.ref-sh.ch/veranstaltung/170059
SUMMARY:Sonntagschule & Spielzeit Ausflug\, 2. Versuch
PRIORITY:5
X-MICROSOFT-CDO-IMPORTANCE:1
CLASS:PUBLIC
END:VEVENT
END:VCALENDAR
