BEGIN:VCALENDAR
PRODID:-//kirchenweb.ch gmbh//veranstaltungsausgabe v2.0//DE
VERSION:2.0
METHOD:PUBLISH
BEGIN:VEVENT
DTSTART:20251026T084500Z
DTEND:20251026T094500Z
LOCATION:Kirche\, \,  Buchberg-Rüdlingen
TRANSP:OPAQUE
SEQUENCE:0
UID:170026-veranstaltung@ref-sh.ch
DTSTAMP:20250922T185819Z
DESCRIPTION:Taufe von Lino Knöpfel\n\nKontakt: Barbara Erdmann\,
  Stephanie Lemke\n\nWeitere Infos:
  https://www.ref-sh.ch/veranstaltung/170026
SUMMARY:3. Klassuntigottesdienst mit Taufe
PRIORITY:5
X-MICROSOFT-CDO-IMPORTANCE:1
CLASS:PUBLIC
END:VEVENT
END:VCALENDAR
