BEGIN:VCALENDAR
PRODID:-//kirchenweb.ch gmbh//veranstaltungsausgabe v2.0//DE
VERSION:2.0
METHOD:PUBLISH
BEGIN:VEVENT
DTSTART:20250921T074500Z
DTEND:20250921T084500Z
LOCATION:Kirche\, \,  Buchberg-Rüdlingen
TRANSP:OPAQUE
SEQUENCE:0
UID:170021-veranstaltung@ref-sh.ch
DTSTAMP:20250922T185438Z
DESCRIPTION:Am eidgenössischen Dank-\, Buss- und Bettag stellen wir den
  Dank ins Zentrum.\n\nWas wir doch alles haben! Der Dichter Lothar Zenetti
  sagt das so:\n\nAm Ende die Rechnung:\nEinmal wird uns gewiss\ndie
  Rechnung präsentiert\nfür den Sonnenschein\nund das Rauschen der
  Blätter\,\ndie sanften Maiglöckchen\nund die dunklen Tannen\,\nfür den
  Schnee und den Wind\,\nden Vogelflug und das Gras\nund die
  Schmetterlinge\,\nfür die Luft\, die wir\ngeatmet haben\, und den\nBlick
  auf die Sterne\nund für alle die Tage\,\ndie Abende und die Nächte.\n
 \nEinmal wird es Zeit\,\ndass wir aufbrechen und bezahlen:\nBitte die
  Rechnung.\n\nDoch wir haben sie\nohne den Wirt gemacht:\nIch habe euch
  eingeladen\,\nsagt der und lacht\,\nsoweit die Erde reicht:\nEs war mir
  ein Vergnügen.\nLothar Zenetti\n\nEs bleibt uns nichts anderes übrig
  als danke zu sagen.\n\nKontakt: Barbara Erdmann\, Stephanie Lemke\n
 \nWeitere Infos: https://www.ref-sh.ch/veranstaltung/170021
SUMMARY:Bettags- und Erntedankgottesdienst mit Abendmahl
PRIORITY:5
X-MICROSOFT-CDO-IMPORTANCE:1
CLASS:PUBLIC
END:VEVENT
END:VCALENDAR
