BEGIN:VCALENDAR
PRODID:-//kirchenweb.ch gmbh//veranstaltungsausgabe v2.0//DE
VERSION:2.0
METHOD:PUBLISH
BEGIN:VEVENT
DTSTART:20250907T080000Z
DTEND:20250907T090000Z
LOCATION:Bei der Gattersagi\, Hohlegasse 10\, 8454 Buchberg
TRANSP:OPAQUE
SEQUENCE:0
UID:170019-veranstaltung@ref-sh.ch
DTSTAMP:20250810T144828Z
DESCRIPTION:Am 6./7. September findet in Buchberg die Wii-Wanderig statt.
  Am Sonntag feiern wir bei der Gattersagi (oder bei schlechtem Wetter im
  Foyer der Mehrzweckhalle) den Festgottesdienst.\n\nEin Glas Wein in die
  Hände nehmen. Sehen\, welche Farbe er hat. Riechen\, welche Aromen er
  mit sich trägt. Trinken und die Gaumenfreude geniessen. So oder ähnlich
  degustieren wir den Wein\, prüfen seine Qualität und tauschen uns aus\,
  wie er uns schmeckt. Da gibt es objektive und subjektive Kriterien. Gut
  wenn man die zu unterscheiden weiss.\n\nDie Jahreslosung 2025 ist von der
  Degustation gar nicht so weit weg. "Prüft alles und das Gute behaltet"
  rät Paulus der Gemeinde in Thessalonich. Im Wii-Wanderigsgottesdienst
  versuchen wir\, die Weindegustation und die Jahreslosung
  zusammenzudenken. Ob das gelingt?\n\nKontakt: Beat Frefel\n\nWeitere
  Infos: https://www.ref-sh.ch/veranstaltung/170019
SUMMARY:Wii-Wanderigs-Gottesdienst
PRIORITY:5
X-MICROSOFT-CDO-IMPORTANCE:1
CLASS:PUBLIC
END:VEVENT
END:VCALENDAR
