BEGIN:VCALENDAR
PRODID:-//kirchenweb.ch gmbh//veranstaltungsausgabe v2.0//DE
VERSION:2.0
METHOD:PUBLISH
BEGIN:VEVENT
DTSTART:20250824T083000Z
DTEND:20250824T093000Z
LOCATION:Kirche\, \,  Buchberg-Rüdlingen
TRANSP:OPAQUE
SEQUENCE:0
UID:170017-veranstaltung@ref-sh.ch
DTSTAMP:20250825T194051Z
DESCRIPTION:Am 24. August feiern wir unsere Chilbi: Mit Popcorn und
  Zuckerwatte\, Hüpfburg und Chilbibuden\, Gottesdienst und
  Festwirtschaft. Herrrreinspaziert meine Damen und Herren und Kinder!\n
 \nNachdem wir letztes Jahr unser 50-jähriges Jubiläum feierten - wir
  erinnern uns jetzt noch gerne daran - laden wir Sie auch dieses Jahr zum
  Chilbisunntig ein. 51 Jahre kann man nicht feiern\, aber ein Fest geht
  immer. Dieses Mal steht jedoch eine Geschichte im Mittelpunkt und die
  beginnt so:\n\n"Es waren einmal drei Zikaden\, die wollten nach Jerusalem
  reisen. Auf dem Tempelberg\, unter den alten Olivenbäumen\, sollte ein
  Konzert stattfinden\, zu dem alle Tiere der Berge\, der Wüste\, des
  Meers und der Luft eingeladen waren."\n\nDie Geschichte dreht sich um die
  drei Religionen\, die in Jerusalem ihren Mittelpunkt haben. Sie dreht
  sich auch um das Ideal der Toleranz und die Hoffnung auf Frieden. Frieden
  hat unsere Welt dringend nötig\, an diesem Chilbisunntig erzählen wir
  davon.\n\nFür die Musik sind in bewährter Manier der Rainbowchor und
  unser Organist Václav Hřebec zuständig. Danach wird aufgetischt und
  bewirtet und die Hüpfburg und der Top Step-Parcours laden die Kinder ein
  herumzutollen und sich herausfordern zu lassen.\n\nKontakt: Barbara
  Erdmann\, Stephanie Lemke\n\nWeitere Infos:
  https://www.ref-sh.ch/veranstaltung/170017
SUMMARY:Chilbisunntig
PRIORITY:5
X-MICROSOFT-CDO-IMPORTANCE:1
CLASS:PUBLIC
END:VEVENT
END:VCALENDAR
