BEGIN:VCALENDAR
PRODID:-//kirchenweb.ch gmbh//veranstaltungsausgabe v2.0//DE
VERSION:2.0
METHOD:PUBLISH
BEGIN:VEVENT
DTSTART:20250706T090000Z
DTEND:20250706T100000Z
LOCATION:Kirche\, \,  Buchberg-Rüdlingen
TRANSP:OPAQUE
SEQUENCE:0
UID:170010-veranstaltung@ref-sh.ch
DTSTAMP:20250627T090400Z
DESCRIPTION:Mit Taufe von Leonardo Andrin Fehr\n\nDie Bibel sei ein
  Märchenbuch\, hört man hie und da und allenthalben. Stimmt nicht\,
  sagen wir\, und wer das behauptet\, habe keine Ahnung von Textgattungen.
  In diesem Buch findet man Geschichtserzählungen\, Briefe\, Berichte\,
  Lieder\, Gesetze und Evangelien. Sogar Fabeln gibt es\, aber ein Märchen
  gibt es kein einziges.\n\nAn diesem Zmittaggottesdienst machen wir die
  Märchen aber zum Thema\, und wie! Silvia Vieli-Matzinger\, zuhause in
  Vals und aufgewachsen in Rüdlingen\, ist ausgebildete
  Märchenerzählerin und gestaltet mit uns diese Feier. Wir freuen uns
  sehr\, sie an Bord zu haben und laden alle\, die gerne gute Geschichten
  hören\, mitzufahren.\n\nNach dem Gottesdienst steht der Grill bereit.
  Wer bleiben will und Hunger hat\, kann seine Wurst\, sein Steak und
  seinen Bratkäse darauflegen und gemütlich vor der Kirche mit anderen in
  den Sonntagnachmittag starten.\n\nDas Essen bitte selber mitbringen. Für
  Spontanentschlossene halten wir gerne Wurst und Brot parat. Getränke
  können gekauft werden.\n\nNach dem dem Zmittag erwartet Sie dieser
  Leckerbissen:\n\nHistorische Führung zum Thema Kirche
  Buchberg-Rüdlingen\n6.7.2025\, 13.35 - 15.00 Uhr\nIn rund 90 Minuten
  erhalten Sie einen vertieften Einblick in die Geschichte der Kirche
  Buchberg-Rüdlingen. Sie steht an einem ausserordentlich schönen Ort und
  hat viel gesehen: Pilger\, Pest und andere Katastrophen haben sie nicht
  kleingekriegt. Und das fast seit 1000 Jahren.\n\nVeranstaltung im Rahmen
  des Regionalen Naturparks\nKosten CHF 20.-\, Ermässigungen werden
  angeboten\nVeranstalterin: Karin Lüthi-Graf aus Rüdlingen\,
  https://karinluethi.jimdofree.com\nTreffpunkt: Friedhof der Kirche\n\n
 \nKontakt: Beat Frefel\n\nWeitere Infos:
  https://www.ref-sh.ch/veranstaltung/170010
SUMMARY:Zmittaggottesdienst und historische Führung
PRIORITY:5
X-MICROSOFT-CDO-IMPORTANCE:1
CLASS:PUBLIC
END:VEVENT
END:VCALENDAR
