BEGIN:VCALENDAR
PRODID:-//kirchenweb.ch gmbh//veranstaltungsausgabe v2.0//DE
VERSION:2.0
METHOD:PUBLISH
BEGIN:VEVENT
DTSTART:20260527T101500Z
DTEND:20260527T155500Z
LOCATION:Münster\, Münsterplatz\, 8200 Schaffhausen
TRANSP:OPAQUE
SEQUENCE:0
UID:168465-veranstaltung@ref-sh.ch
DTSTAMP:20250626T204227Z
DESCRIPTION:Heute bereiten wir uns auf den Gottesdienst am Sonntag vor:
  das Thema\, die Einsegnung\, das Abendmahl. \n\nKontakt: Pfarrer Roland
  Diethelm\n\nWeitere Infos: https://www.ref-sh.ch/veranstaltung/168465
SUMMARY:Konf Hauptprobe
PRIORITY:5
X-MICROSOFT-CDO-IMPORTANCE:1
CLASS:PUBLIC
END:VEVENT
END:VCALENDAR
