BEGIN:VCALENDAR
PRODID:-//kirchenweb.ch gmbh//veranstaltungsausgabe v2.0//DE
VERSION:2.0
METHOD:PUBLISH
BEGIN:VEVENT
DTSTART:20240707T173000Z
DTEND:20240707T200000Z
LOCATION:Kirche\, Kirchstrasse 8\, 8214 Gächlingen
TRANSP:OPAQUE
SEQUENCE:0
UID:168340-veranstaltung@ref-sh.ch
DTSTAMP:20240706T135959Z
DESCRIPTION:Kontakt: Susanne Ryser\n\nWeitere Infos:
  https://www.ref-sh.ch/veranstaltung/168340
SUMMARY:Boxenstopp Gottesdienst
PRIORITY:5
X-MICROSOFT-CDO-IMPORTANCE:1
CLASS:PUBLIC
END:VEVENT
END:VCALENDAR
