BEGIN:VCALENDAR
PRODID:-//kirchenweb.ch gmbh//veranstaltungsausgabe v2.0//DE
VERSION:2.0
METHOD:PUBLISH
BEGIN:VEVENT
DTSTART:20240912T054500Z
DTEND:20240912T153000Z
LOCATION:Walensee und Tannenbodenalp\, \,
TRANSP:OPAQUE
SEQUENCE:0
UID:168289-veranstaltung@ref-sh.ch
DTSTAMP:20240911T142113Z
DESCRIPTION:Unsere Carreise führt uns auf einer schönen Route mit
  Kaffeehalt nach Weesen am Walensee. Dort geht die Reise weiter mit den
  Schiff nach Unterterzen und anschliessend mit dem Apfelcar hoch in die
  Tannenbodenalp mit herrlicher Aussicht. Nach dem Mittagessen im urchigen
  Restaurant Sennästube und Spaziermöglichkeit bei wunderschöner
  Churfirstenkulisse geht es mit dem Car zurück nach Schaffhausen. \n
 \n07.45 Uhr	        Carparkplatz Vienna Haus Schaffhausen\n09 - 09.50 Uhr
  	Kaffee und Gipfelihalt\n10.50 Uhr 	        Schifffahrt auf dem Walensee
  ab Weesen\n11.45 Uhr	        Ankunft in Unterterzen\n12.30 - 15.30
  Uhr	Mittagessen/Aufenthalt Tannenbodenalp\n17.30 Uhr	        Ankunft
  Vienna Haus Schaffhausen\n\nBegleitung: 	        Adriana Di Cesare und
  Barbara Rohrer\nKontakt:                   adriana.dicesare@ref-sh.ch\,
  079 349 64 77\n\nKosten:                    70 Franken (bitte den Betrag
  passend mitbringen)\n                                Inbegriffen sind 
  neben der Car- und Schifffahrt die Verpflegung beim Zünihalt \n         
                        sowie das Mittagessen plus 1 Getränk und 1 Kaffee
 \n                               \n\n\nKontakt: Adriana Di Cesare\n
 \nWeitere Infos: https://www.ref-sh.ch/veranstaltung/168289
SUMMARY:Tagesausflug Walensee und Tannenbodenalp
PRIORITY:5
X-MICROSOFT-CDO-IMPORTANCE:1
CLASS:PUBLIC
END:VEVENT
END:VCALENDAR
