BEGIN:VCALENDAR
PRODID:-//kirchenweb.ch gmbh//veranstaltungsausgabe v2.0//DE
VERSION:2.0
METHOD:PUBLISH
BEGIN:VEVENT
DTSTART:20250107T144500Z
DTEND:20250107T153000Z
LOCATION:Pfarrhaus Münster\, Münsterplatz 32\, 8200 Schaf
TRANSP:OPAQUE
SEQUENCE:0
UID:167958-veranstaltung@ref-sh.ch
DTSTAMP:20240903T130425Z
DESCRIPTION:Kontakt: Gabriela Fahrni Katechetin\n\nWeitere Infos:
  https://www.ref-sh.ch/veranstaltung/167958
SUMMARY:Religionsunterricht Drittklässler
PRIORITY:5
X-MICROSOFT-CDO-IMPORTANCE:1
CLASS:PUBLIC
END:VEVENT
END:VCALENDAR
