BEGIN:VCALENDAR
PRODID:-//kirchenweb.ch gmbh//veranstaltungsausgabe v2.0//DE
VERSION:2.0
METHOD:PUBLISH
BEGIN:VEVENT
DTSTART:20240821T063000Z
DTEND:20240821T120000Z
LOCATION:Ottilienquelle Randegg\, \,
TRANSP:OPAQUE
SEQUENCE:0
UID:167742-veranstaltung@ref-sh.ch
DTSTAMP:20240818T104338Z
DESCRIPTION:Die Ottilien-Quelle in ist ein traditionsreicher
  Mineralbrunnen im Hegau.  und seit 1892 im Besitz der Familie
  Fleischmann. \nWir werden bei unserem Besuch interessantes über
  Geschichte\, Produktion\, Quelle\, Ökologie und vieles mehr erfahren.\n
 \nBei der anschliessenden Degustation mit Brezeln wird uns \nHerr
  Fleischmann unsere Fragen beantworten.\nIm Anschluss erwartet uns ein
  gemeinsames Mittagessen im Rest. Harlekin Randegg.\n\nNach dem
  Mittagessen besteht die Möglichkeit den schönen Schlosspark zu
  besichtigen.\n\nTreffpunkt:		08.30 Uhr Bushof Schaffhausen\nAbfahrt:		   
      08:50 Uhr Bus Nr. 25 Richtung Ramsen\n\nFahrkosten:		Tageskarte
  	15.20 CHF  1/1\n					                  7.60 CHF Halbtax\n               
        		Jeder Teilnehmer*in löst das Billett selbst\n\nWichtig:		       
  ID und EURO mitnehmen\n\nRückfahrt:	        individuell ab Randegg\,
  Ottilienstrasse\n		               14.44 h / 15.44 h / 16:14 h / 16:44 h\n
 \n\n\n\nKontakt: adriana.dicesare@ref-sh.ch\n\nWeitere Infos:
  https://www.ref-sh.ch/veranstaltung/167742
SUMMARY:Ausflug 58plus Ottilienquelle Randegg
PRIORITY:5
X-MICROSOFT-CDO-IMPORTANCE:1
CLASS:PUBLIC
END:VEVENT
END:VCALENDAR
