BEGIN:VCALENDAR
PRODID:-//kirchenweb.ch gmbh//veranstaltungsausgabe v2.0//DE
VERSION:2.0
METHOD:PUBLISH
BEGIN:VEVENT
DTSTART:20250109T183000Z
DTEND:20250109T200000Z
LOCATION:Nachbar Stahlgiesserei\, zur Stahlgiesserei 15b\, 8200
  Schaffhausen
TRANSP:OPAQUE
SEQUENCE:0
UID:167274-veranstaltung@ref-sh.ch
DTSTAMP:20240905T153023Z
DESCRIPTION:In diesem 8-teiligen Bibelseminar wird der 1. Korintherbrief
  in seinem historischen und literarischen Kontext eingehender studiert. Er
  ist Teil einer längeren Korrespondenz\, die der Apostel Paulus mit der
  Gemeinde in Korinth geführt hat.\n\nIn gemeinsamer Lektüre\, mit
  Kurzreferaten\, Diskussionen und Gruppenaustausch wird ins Thema
  eingetaucht.\n\nhttps://www.ref-sh.ch/dok/56867\n\n\nKontakt: Pfr.
  Wolfram Kötter\nPfrn. Verena Hubmann\n\nWeitere Infos:
  https://www.ref-sh.ch/veranstaltung/167274
SUMMARY:Bibelseminar 1. Korintherbrief
PRIORITY:5
X-MICROSOFT-CDO-IMPORTANCE:1
CLASS:PUBLIC
END:VEVENT
END:VCALENDAR
