BEGIN:VCALENDAR
PRODID:-//kirchenweb.ch gmbh//veranstaltungsausgabe v2.0//DE
VERSION:2.0
METHOD:PUBLISH
BEGIN:VEVENT
DTSTART:20241107T150000Z
DTEND:20241107T170000Z
LOCATION:HofAckerZentrum\, Alpenstrasse 176\, 8203 Schaffhausen
TRANSP:OPAQUE
SEQUENCE:0
UID:167241-veranstaltung@ref-sh.ch
DTSTAMP:20241010T061355Z
DESCRIPTION:Im Rahmen des Architekturwettbewerbs zur Entwicklung des
  HofAckerZentrums Buchthalen wurden im Laufe des Jahres 2024 mehrere
  Projektvorschläge erarbeitet. Nun freuen wir uns\, der Öffentlichkeit
  die Ergebnisse präsentieren zu dürfen.\n\nÖffnungszeiten der
  Ausstellung vom 31. Oktober bis 13. November: \nMontag bis Freitag von 16
  bis 18 Uhr\n\nKontakt: Susanne Müller\nSusanne Müller\n\nWeitere Infos:
  https://www.ref-sh.ch/veranstaltung/167241
SUMMARY:Ausstellung Siegerprojekt HAZ
PRIORITY:5
X-MICROSOFT-CDO-IMPORTANCE:1
CLASS:PUBLIC
END:VEVENT
END:VCALENDAR
