BEGIN:VCALENDAR
PRODID:-//kirchenweb.ch gmbh//veranstaltungsausgabe v2.0//DE
VERSION:2.0
METHOD:PUBLISH
BEGIN:VEVENT
DTSTART:20240919T070000Z
DTEND:20240919T163000Z
LOCATION:Birnau und Insel Mainau\, \,
TRANSP:OPAQUE
SEQUENCE:0
UID:167226-veranstaltung@ref-sh.ch
DTSTAMP:20240907T061037Z
DESCRIPTION:Der Herbstausflug der Kirchgemeinden Gächlingen und Neunkirch
  führt uns zuerst zum Kloster Birnau am Bodensee. Dort besichtigen wir
  das Kloster und essen anschliessend Zmittag im benachbarten Birnauer
  Oberhof. Mit der Fähre fahren wir ab Meersburg via Konstanz zur Insel
 \nMainau. Nach zweistündigem Aufenthalt treten wir die Heimreise an. \n
 \nAbfahrt in Neunkirch: 8.45 beim Coop-Parkplatz\nAbfahrt in Gächlingen:
  9.00 beim Gemeindehausplatz\nRückkehr ca. 18.30 Uhr\n\nKosten: 55
  Franken pro Person\n\nKontakt: Margrit Biller\nRuth Schönenberger\n
 \nWeitere Infos: https://www.ref-sh.ch/veranstaltung/167226
SUMMARY:Ausflug zum Bodensee
PRIORITY:5
X-MICROSOFT-CDO-IMPORTANCE:1
CLASS:PUBLIC
END:VEVENT
END:VCALENDAR
