BEGIN:VCALENDAR
PRODID:-//kirchenweb.ch gmbh//veranstaltungsausgabe v2.0//DE
VERSION:2.0
METHOD:PUBLISH
BEGIN:VEVENT
DTSTART:20240824T080000Z
DTEND:20240824T140000Z
LOCATION:Pfarrhaus Münster\, Münsterplatz 32\, 8200 Schaf
TRANSP:OPAQUE
SEQUENCE:0
UID:167049-veranstaltung@ref-sh.ch
DTSTAMP:20250911T125648Z
DESCRIPTION:ZaK- Kurse bieten Kindern und Jugendlichen in unserer Kirche
  die Möglichkeit\, sich untereinander zu vernetzen und ihre
  Kirchgemeinden mitzugestalten.\n\nJetzt geht es endlich los mit den
  ersten ZaK Kursen in Schaffhausen. Wir starten nach den Sommerferien mit
  einer Ausbildung zur Jungleiterin\, zum Jungleiter. Zunächst gibt es ein
  Angebot für 12 bis 14 Jährige. An zwei Samstagen lernen die
  Jugendlichen\, was es heisst\, für eine Gruppe Verantwortung zu
  übernehmen\, Angebote mitzugestalten\, eigene Ideen umzusetzen und mit
  anderen unterwegs zu sein. Sie werden gemäss ihrer Altersgruppe gut
  darauf vorbereitet\, ihre Kirchgemeinde tatkräftig zu unterstützen.
  Natürlich bedeutet die Ausbildung zum Teamer und zur Teamerin auch
  Gemeinschaft\, Spass\, Freude\, das Teilen von Visionen und die
  Auseinandersetzung mit dem eigenen Glauben.\n\nKontakt: \n\nWeitere
  Infos: https://www.ref-sh.ch/veranstaltung/167049
SUMMARY:ZaK - Zusammen auf Kurs
PRIORITY:5
X-MICROSOFT-CDO-IMPORTANCE:1
CLASS:PUBLIC
END:VEVENT
END:VCALENDAR
