BEGIN:VCALENDAR
PRODID:-//kirchenweb.ch gmbh//veranstaltungsausgabe v2.0//DE
VERSION:2.0
METHOD:PUBLISH
BEGIN:VEVENT
DTSTART:20241220T164500Z
DTEND:20241220T173000Z
LOCATION:Check-in-Raum unter dem Feuerwehrmagazin\, Zelgstrasse 10\, 8222
  Beringen
TRANSP:OPAQUE
SEQUENCE:0
UID:166972-veranstaltung@ref-sh.ch
DTSTAMP:20250314T101830Z
DESCRIPTION:Für einmal findet der Jugendgottesdienst im Check-in-Raum
  unter dem Feuerwehrmagazin statt. Anschliessend Check-in Beringen\n
 \nKontakt: Pfarrer Lukas Huber\n\nWeitere Infos:
  https://www.ref-sh.ch/veranstaltung/166972
SUMMARY:Jugendgottesdienst Beringen im Check-in-Raum
PRIORITY:5
X-MICROSOFT-CDO-IMPORTANCE:1
CLASS:PUBLIC
END:VEVENT
END:VCALENDAR
