BEGIN:VCALENDAR
PRODID:-//kirchenweb.ch gmbh//veranstaltungsausgabe v2.0//DE
VERSION:2.0
METHOD:PUBLISH
BEGIN:VEVENT
DTSTART:20250420T040000Z
DTEND:20250420T050000Z
LOCATION:Kirche\, Kirchstrasse 8\, 8214 Gächlingen
TRANSP:OPAQUE
SEQUENCE:0
UID:165774-veranstaltung@ref-sh.ch
DTSTAMP:20250609T142748Z
DESCRIPTION:Wir besammeln uns in der dunklen Kirche und gehen gemeinsam
  dem Licht und der Osterfreude entgegen.\nMusikalisch wird die Feier vom
  Trio Dusha gestaltet: Flora Thalassa (Violine)\, Ludovit Kovac
  (Gitarre)\, Désirée Senn (Violine)\n\nKontakt: Marianne Näf-Bräker\n
 \nWeitere Infos: https://www.ref-sh.ch/veranstaltung/165774
SUMMARY:Osterfeier
PRIORITY:5
X-MICROSOFT-CDO-IMPORTANCE:1
CLASS:PUBLIC
END:VEVENT
END:VCALENDAR
