BEGIN:VCALENDAR
PRODID:-//kirchenweb.ch gmbh//veranstaltungsausgabe v2.0//DE
VERSION:2.0
METHOD:PUBLISH
BEGIN:VEVENT
DTSTART:20240606T113000Z
DTEND:20240606T123000Z
LOCATION:Kirche Löhningen\, Kloster 3\, 8224 Löhningen
TRANSP:OPAQUE
SEQUENCE:0
UID:165705-veranstaltung@ref-sh.ch
DTSTAMP:20241126T130517Z
DESCRIPTION:Kontakt: Thomas Stamm\n\nWeitere Infos:
  https://www.ref-sh.ch/veranstaltung/165705
SUMMARY:Abdankung René Wanner
PRIORITY:5
X-MICROSOFT-CDO-IMPORTANCE:1
CLASS:PUBLIC
END:VEVENT
END:VCALENDAR
