BEGIN:VCALENDAR
PRODID:-//kirchenweb.ch gmbh//veranstaltungsausgabe v2.0//DE
VERSION:2.0
METHOD:PUBLISH
BEGIN:VEVENT
DTSTART:20250515T100000Z
DTEND:20250515T112000Z
LOCATION:Steigsaal\, Nordstrasse 33\, 8200 Schaffhausen
TRANSP:OPAQUE
SEQUENCE:0
UID:165696-veranstaltung@ref-sh.ch
DTSTAMP:20250425T072950Z
DESCRIPTION:Zusammen essen und Jugendgottesdienst feiern. Anmeldung bis
  13. Mai an katrin.vonarx@ref-sh.ch\n\nKontakt: Katrin von Arx\n\nWeitere
  Infos: https://www.ref-sh.ch/veranstaltung/165696
SUMMARY:FäZ - Family-Zmittag
PRIORITY:5
X-MICROSOFT-CDO-IMPORTANCE:1
CLASS:PUBLIC
END:VEVENT
END:VCALENDAR
