BEGIN:VCALENDAR
PRODID:-//kirchenweb.ch gmbh//veranstaltungsausgabe v2.0//DE
VERSION:2.0
METHOD:PUBLISH
BEGIN:VEVENT
DTSTART:20250114T153000Z
DTEND:20250114T161500Z
LOCATION:Kirchgemeindehaus\, Zentralstrasse 32\, 8212 Neuhausen
TRANSP:OPAQUE
SEQUENCE:0
UID:165655-veranstaltung@ref-sh.ch
DTSTAMP:20240524T175229Z
DESCRIPTION:Kontakt: Laura Galli\n\nWeitere Infos:
  https://www.ref-sh.ch/veranstaltung/165655
SUMMARY:Die Kindersingkinder!
PRIORITY:5
X-MICROSOFT-CDO-IMPORTANCE:1
CLASS:PUBLIC
END:VEVENT
END:VCALENDAR
