BEGIN:VCALENDAR
PRODID:-//kirchenweb.ch gmbh//veranstaltungsausgabe v2.0//DE
VERSION:2.0
METHOD:PUBLISH
BEGIN:VEVENT
DTSTART:20240822T150000Z
DTEND:20240822T180000Z
LOCATION:Hofmeisterhuus\, Eichenstrasse 37\, 8200 Schaffhausen
TRANSP:OPAQUE
SEQUENCE:0
UID:165563-veranstaltung@ref-sh.ch
DTSTAMP:20240813T125855Z
DESCRIPTION:Sommer-Grillplausch \n\nHerzlich willkommen zum gemütlichen
  Beisammensein im Garten!\nGetränke\, Grillgut und Salate sind vorhanden.
 \n\nWir freuen uns auf euch!\n\nDonnerstag\, 22. August 2024\, ab 17 Uhr\n
 \nHofmeisterhuus\, Eichenstrasse 37\n\nFlyer zum Ausdrucken: \n\nKontakt:
  Barbara Rohrer Sozialdiakonie\n\nWeitere Infos:
  https://www.ref-sh.ch/veranstaltung/165563
SUMMARY:Grillplausch Hofmeisterhuus
PRIORITY:5
X-MICROSOFT-CDO-IMPORTANCE:1
CLASS:PUBLIC
END:VEVENT
END:VCALENDAR
