BEGIN:VCALENDAR
PRODID:-//kirchenweb.ch gmbh//veranstaltungsausgabe v2.0//DE
VERSION:2.0
METHOD:PUBLISH
BEGIN:VEVENT
DTSTART:20250212T130000Z
DTEND:20250212T150000Z
LOCATION:Foyer der Kirche Buchberg-Rüdlingen\, \,
TRANSP:OPAQUE
SEQUENCE:0
UID:165527-veranstaltung@ref-sh.ch
DTSTAMP:20250211T082747Z
DESCRIPTION:Fröhlicher Hokus-Pokus\n\nHumoristische Zauber-Show mit Rico
  Leitner\, Zauberkünstler aus St. Gallen.\n\nKontakt: Barbara Erdmann\n
 \nWeitere Infos: https://www.ref-sh.ch/veranstaltung/165527
SUMMARY:Senioren-Nachmittag
PRIORITY:5
X-MICROSOFT-CDO-IMPORTANCE:1
CLASS:PUBLIC
END:VEVENT
END:VCALENDAR
