BEGIN:VCALENDAR
PRODID:-//kirchenweb.ch gmbh//veranstaltungsausgabe v2.0//DE
VERSION:2.0
METHOD:PUBLISH
BEGIN:VEVENT
DTSTART:20240621T170000Z
DTEND:20240621T180000Z
LOCATION:HofAckerZentrum\, Alpenstrasse 176\, 8203 Schaffhausen
TRANSP:OPAQUE
SEQUENCE:0
UID:165455-veranstaltung@ref-sh.ch
DTSTAMP:20240610T093528Z
DESCRIPTION:Ein Abend für alle\, die alleine unterwegs sind\, um Kontakt
  zu schliessen und sich in ungezwungener Atmosphäre auszutauschen.  \n
 \nKontakt: Adriana Di Cesare\n\nWeitere Infos:
  https://www.ref-sh.ch/veranstaltung/165455
SUMMARY:Sommerabend für Singles
PRIORITY:5
X-MICROSOFT-CDO-IMPORTANCE:1
CLASS:PUBLIC
END:VEVENT
END:VCALENDAR
