BEGIN:VCALENDAR
PRODID:-//kirchenweb.ch gmbh//veranstaltungsausgabe v2.0//DE
VERSION:2.0
METHOD:PUBLISH
BEGIN:VEVENT
DTSTART:20240831T113000Z
DTEND:20240831T150000Z
LOCATION:\, \,
TRANSP:OPAQUE
SEQUENCE:0
UID:165357-veranstaltung@ref-sh.ch
DTSTAMP:20240828T202020Z
DESCRIPTION:Hallo Zusammen\n\nAm Samstag ist nochmals Jungschi :D Wir
  machen eine kleine Sauerei\, aber es heisst ja auch wo gearbeitet wird
  fallen Spähne. In unserem Fall woll eher Staub ;D\n\nTreffpunkt:\n13:30
  Löhningen Mesmerhaus\n\nEnde:\n17.00 Löhningen Mesmerhaus\n\nMitnehmen:
 \nKleider die dreckig werden dürfen\nRucksack mit:\n- Jungschibüechli\n-
  Trinkflasche\n- Sackmesser\n\nMit besten Grüssen im Namen des Jungschi
  Teams\n\nZoé\n\nhttps://www.ref-sh.ch/gruppe/jungschiprogramm gehts zur
  Anmeldung für unseren Newsletter\, eine Erinnerung mit den Daten zu den
  Nachmittagen verschicken wir jeweils in der Woche vorher.\n\nBei Fragen
  aller Art\, melded euch einfach bei mir :D\nZoé Werner\n\nKontakt:
  matthias.niklaus@ref-sh.ch\n\nWeitere Infos:
  https://www.ref-sh.ch/veranstaltung/165357
SUMMARY:Jungschi
PRIORITY:5
X-MICROSOFT-CDO-IMPORTANCE:1
CLASS:PUBLIC
END:VEVENT
END:VCALENDAR
