BEGIN:VCALENDAR
PRODID:-//kirchenweb.ch gmbh//veranstaltungsausgabe v2.0//DE
VERSION:2.0
METHOD:PUBLISH
BEGIN:VEVENT
DTSTART:20241214T140000Z
DTEND:20241214T180000Z
LOCATION:\, \,
TRANSP:OPAQUE
SEQUENCE:0
UID:165354-veranstaltung@ref-sh.ch
DTSTAMP:20241211T123850Z
DESCRIPTION:Hallo Zusammen\n\nWeihnachten steht vor der Tür! Und unsere
  Waldweihnachten lässt nicht auf sich warten :D Wir möchten euch Eltern
  Herzlich dazu Einladen um die letzten Momente der Waldweihnachten mit uns
  ab 17.30 bei der Wasenhütte in Neunkirch zu feiern. Falls ihr Interesse
  daran habt meldet euch doch bei mir\, das wir genug Z'Nacht für alle
  haben :D\n\nTreffpunkt:\n15.00
  https://www.google.com/maps/place/47%C2%B040'33.5%22N+8%C2%B032'06.6%22E/
 @47.675957\,8.535171\,17z/data=!3m1!4b1!4m4!3m3!8m2!3d47.675957!4d8.535171
 ?entry=ttu&g_ep=EgoyMDI0MTIwOC4wIKXMDSoASAFQAw%3D%3D \n\nEnde:\n19.00
  Wasehütte Neunkirch\n\nMitnehmen:\nGanz warme Kleider\, Mütze und
  Handschuhe\nRucksack mit:\n- Jungschibüechli\n- Thermoskanne\, am besten
  schon mit Warmem Tee gefüllt\n\n\nBei Fragen aller Art:\nMatthias
  Niklaus\nmatthias.niklaus@ref-sh.ch\n079 382 82 07\n\nMit besten Grüssen
  im Namen des Jungschi Teams\n\nMädde\n	\n
 \nhttps://www.ref-sh.ch/gruppe/jungschiprogramm gehts zur Anmeldung für
  unseren Newsletter\, eine Erinnerung mit den Daten zu den Nachmittagen
  verschicken wir jeweils in der Woche vorher.\n\nMatthias Niklaus\n
 \nKontakt: matthias.niklaus@ref-sh.ch\n\nWeitere Infos:
  https://www.ref-sh.ch/veranstaltung/165354
SUMMARY:Jungschi
PRIORITY:5
X-MICROSOFT-CDO-IMPORTANCE:1
CLASS:PUBLIC
END:VEVENT
END:VCALENDAR
