BEGIN:VCALENDAR
PRODID:-//kirchenweb.ch gmbh//veranstaltungsausgabe v2.0//DE
VERSION:2.0
METHOD:PUBLISH
BEGIN:VEVENT
DTSTART:20240526T084500Z
DTEND:20240526T093000Z
LOCATION:Kirche Löhningen\, Kloster 3\, 8224 Löhningen
TRANSP:OPAQUE
SEQUENCE:0
UID:165219-veranstaltung@ref-sh.ch
DTSTAMP:20240817T121613Z
DESCRIPTION:Kirchgemeinde-Versammlung mit Haupt-Traktandum Rechnung 2023.
  Beginnt anschliessend an den Gottesdienst (ca. 10.45 Uhr).\n\n\n
 \nKontakt: Pfarrer Lukas Huber\n\nWeitere Infos:
  https://www.ref-sh.ch/veranstaltung/165219
SUMMARY:Kirchgemeinde-Versammlung
PRIORITY:5
X-MICROSOFT-CDO-IMPORTANCE:1
CLASS:PUBLIC
END:VEVENT
END:VCALENDAR
