BEGIN:VCALENDAR
PRODID:-//kirchenweb.ch gmbh//veranstaltungsausgabe v2.0//DE
VERSION:2.0
METHOD:PUBLISH
BEGIN:VEVENT
DTSTART:20240418T170000Z
DTEND:20240418T180000Z
LOCATION:St. Konrad\, Stauffacherstrasse 3\, 8200 Schaffhausen
TRANSP:OPAQUE
SEQUENCE:0
UID:165014-veranstaltung@ref-sh.ch
DTSTAMP:20240412T153003Z
DESCRIPTION:Verschwörungstheorien als Welterklärungsmodelle\nVortrag mit
  Prof. Stefanie Mahrer\, Historikerin Universität Bern\nModeration: Pfr.
  Dr. Joachim Finger\n\nWenn Veränderungen über mich stürzen\, anstatt
  sich in meinem Schritttempo zu vollziehen\, wenn ich mich ausgeliefert
  fühle – dann kann es schon passieren\, dass ich mich überfahren
  fühle von Mächten\, die sich gegen mich verschworen haben.
  Klimaveränderung\, Pandemie\, Kriege\, wirtschaftlicher und
  gesellschaftlicher Umbruch ‒ tatsächlich: «Das kann doch nicht alles
  einfach so passieren. Da profitiert doch wer. Da haben doch einige an den
  Schrauben gedreht! Und die grossen Medienhäuser machen natürlich auch
  mit\, die verdienen ja daran\, denen glaube ich nichts mehr!» Und schon
  haben wir die Grundlage für blühende Geschichten von Filz\,
  Seilschaften\, Parteienklüngel\, geheimen Netzwerken – von
  Verschwörungen eben.\nAber wo ist die Grenze zwischen legitimer\,
  demokratisch gesinnter Wachsamkeit gegenüber «Seilschaften» und
  Ämterfilz und dem Glauben an Verschwörungen? Vielleicht da\, wo
  Widerspruch nur noch als Bestätigung gilt\, dass die Verschwörung
  existiert?\n\nStefanie Mahrer\, Historikerin an der Uni Bern\, stellt
  nicht in Abrede\, dass Absprachen und Komplotte vorkommen. Aber sie weiss
  zwischen Realität und Fiktion\, zwischen Vorsicht und übertriebener
  Angst zu unterscheiden.\n\nWir hoffen\, an diesem Abend einige klärende
  Schneisen in das Dickicht der wuchernden und sich überschneidenden
  Verschwörungsmuster schlagen zu können.\n\nEin abschliessender Apéro
  schafft Gelegenheit\, miteinander ins Gespräch zu kommen.\n\n\nKontakt:
  André Sauter\n\nWeitere Infos:
  https://www.ref-sh.ch/veranstaltung/165014
SUMMARY:Verschwörungstheorien - einfache Antworten auf die Komplexität
  der Moderne
PRIORITY:5
X-MICROSOFT-CDO-IMPORTANCE:1
CLASS:PUBLIC
END:VEVENT
END:VCALENDAR
