BEGIN:VCALENDAR
PRODID:-//kirchenweb.ch gmbh//veranstaltungsausgabe v2.0//DE
VERSION:2.0
METHOD:PUBLISH
BEGIN:VEVENT
DTSTART:20240505T090000Z
DTEND:20240505T100000Z
LOCATION:Bergkirche Neunkirch\, Oberwiesstr. 20\, 8213 Neunkirch
TRANSP:OPAQUE
SEQUENCE:0
UID:164962-veranstaltung@ref-sh.ch
DTSTAMP:20240410T071846Z
DESCRIPTION:Anschliessend an den Gottesdienst sind alle herzlich zu
  Kaffee\, Kuchen und Zopf in der Kirche eingeladen.\n\nKontakt:
  sandra.voegeli@ref-sh.ch\n\nWeitere Infos:
  https://www.ref-sh.ch/veranstaltung/164962
SUMMARY:Kirchencafé
PRIORITY:5
X-MICROSOFT-CDO-IMPORTANCE:1
CLASS:PUBLIC
END:VEVENT
END:VCALENDAR
