BEGIN:VCALENDAR
PRODID:-//kirchenweb.ch gmbh//veranstaltungsausgabe v2.0//DE
VERSION:2.0
METHOD:PUBLISH
BEGIN:VEVENT
DTSTART:20240411T062500Z
DTEND:20240411T072500Z
LOCATION:Siblinger Randenhaus\, \, 8225 Siblingen
TRANSP:OPAQUE
SEQUENCE:0
UID:164754-veranstaltung@ref-sh.ch
DTSTAMP:20250301T164722Z
DESCRIPTION:Die Kirchgemeinden Siblingen\, Gächlingen und Neunkirch laden
  gemeinsam ein zu einem gemütlichen Zmorge im Siblinger Randenhaus.
  Miteinander an einem Tisch sitzen\, geniessen\, und Zeit haben für
  Gespräche miteinander steht im Mittelpunkt. Zwischendurch hören wir
  eine Geschichte.\n\nDer Preis für den Zmorge beträgt 25 Franken\, den
  Transport übernehmen die Kirchgemeinden.\n\nAbfahrtszeiten:\n \n08.00
  Uhr: Abfahrt Neunkirch Coop-Parkplatz (Car steht ab 7.45 bereit)\n08.20
  Uhr Abfahrt in Gächlingen Gemeindehaus Parkplatz\n08.25 Uhr Abfahrt
  Siblingen Parkplatz Gemeindehaus\n08.30 Uhr Abfahrt Siblingen Brunnen
  Grabenstrasse \nca. 11.00 Uhr Rückfahrt ab Restaurant Randenhaus\n
 \nKontakt: Pfrn. Karin Baumgartner-Vetterli\, Hauptstrasse 59\, 8225
  Siblingen\, karin.baumgartner@ref-sh.ch\, 079 179 61 15\n\nWeitere Infos:
  https://www.ref-sh.ch/veranstaltung/164754
SUMMARY:Zmorge uf em Rande
PRIORITY:5
X-MICROSOFT-CDO-IMPORTANCE:1
CLASS:PUBLIC
END:VEVENT
END:VCALENDAR
