BEGIN:VCALENDAR
PRODID:-//kirchenweb.ch gmbh//veranstaltungsausgabe v2.0//DE
VERSION:2.0
METHOD:PUBLISH
BEGIN:VEVENT
DTSTART:20240920T170000Z
DTEND:20240920T180000Z
LOCATION:HofAckerZentrum\, Alpenstrasse 176\, 8203 Schaffhausen
TRANSP:OPAQUE
SEQUENCE:0
UID:164709-veranstaltung@ref-sh.ch
DTSTAMP:20240813T070628Z
DESCRIPTION:Diesmal wagen wir uns an etwas umfangreichere Stücke\, wie
  z.B. J. S. Bachs h-moll-Suite\, G. F. Händels Flötensonaten sowie W. A.
  Mozarts Kleine Nachtmusik. Dazwischen kommt aber auch die leichte Muse
  nicht zu kurz\, mit einem Schmetterlingsstück von Ernesto Köhler\,
  Stimmungsbildern von Christopher Norton oder einem frechen Tanz von
  Leslie Searle usw.\n\nEs spielen Chantal Bürgi\, Lia Chiara Dotta\,
  Tariqua Hadorn\, Deborah Jahn und Elena Moccetti Querflöten sowie Saori
  Sugihara\, Klavier \n\n\nKontakt: Pfrn. Beatrice Kunz Pfeiffer\n\nWeitere
  Infos: https://www.ref-sh.ch/veranstaltung/164709
SUMMARY:Benefizkonzert „Gegensätze“
PRIORITY:5
X-MICROSOFT-CDO-IMPORTANCE:1
CLASS:PUBLIC
END:VEVENT
END:VCALENDAR
