BEGIN:VCALENDAR
PRODID:-//kirchenweb.ch gmbh//veranstaltungsausgabe v2.0//DE
VERSION:2.0
METHOD:PUBLISH
BEGIN:VEVENT
DTSTART:20240721T150000Z
DTEND:20240721T160000Z
LOCATION:Kirche Buchthalen\, Windeggstrasse 1\, 8203 Schaffhausen
TRANSP:OPAQUE
SEQUENCE:0
UID:164652-veranstaltung@ref-sh.ch
DTSTAMP:20240705T085050Z
DESCRIPTION:„Birds On A Wire“\n\nWenn Vögel auf der Telefonleitung
  balancieren\, sieht das sehr leicht aus; aber eigentlich versammeln sie
  in diesem Moment ihre ganze Kraft und sind bereit\, abzuheben und ihre
  grosse Reise in den Süden anzutreten. Wenn zwei Musiker miteinander
  improvisieren\, hört sich das wie ein leichtfüssiges Gespräch an; aber
  eigentlich braucht es die ganze Kraft der Aufmerksamkeit\, um aufeinander
  zu hören und zu reagieren\, damit Musik entsteht.\n\nBernard Kunz\,
  Gitarre und Jeremy Spindler\, Akkordeon interpretieren Stücke von
  Egberto Gismonti\, Joseph Kosma\, Astor Piazzolla\, Django Reinhardt\,
  Eric Satie usw. sowie eigene Kompositionen.\n\nDauer: ca. 1 Stunde \n\n
 \nKontakt: Pfrn. Beatrice Kunz Pfeiffer\n\nWeitere Infos:
  https://www.ref-sh.ch/veranstaltung/164652
SUMMARY:Benefizkonzert „Birds On A Wire“
PRIORITY:5
X-MICROSOFT-CDO-IMPORTANCE:1
CLASS:PUBLIC
END:VEVENT
END:VCALENDAR
