BEGIN:VCALENDAR
PRODID:-//kirchenweb.ch gmbh//veranstaltungsausgabe v2.0//DE
VERSION:2.0
METHOD:PUBLISH
BEGIN:VEVENT
DTSTART:20240802T073000Z
DTEND:20240802T083000Z
LOCATION:EMK-Kapelle\, Obere Hofwiesen 7\, 8226 Schleitheim
TRANSP:OPAQUE
SEQUENCE:0
UID:164612-veranstaltung@ref-sh.ch
DTSTAMP:20240322T163013Z
DESCRIPTION:Kollekte für den Weltgebetstag\n\nKontakt: Agnes Hafner\n
 \nWeitere Infos: https://www.ref-sh.ch/veranstaltung/164612
SUMMARY:Gebet für unser Dorf
PRIORITY:5
X-MICROSOFT-CDO-IMPORTANCE:1
CLASS:PUBLIC
END:VEVENT
END:VCALENDAR
