BEGIN:VCALENDAR
PRODID:-//kirchenweb.ch gmbh//veranstaltungsausgabe v2.0//DE
VERSION:2.0
METHOD:PUBLISH
BEGIN:VEVENT
DTSTART:20240329T160000Z
DTEND:20240329T170000Z
LOCATION:Kirche Buchthalen\, \,
TRANSP:OPAQUE
SEQUENCE:0
UID:164576-veranstaltung@ref-sh.ch
DTSTAMP:20240321T072435Z
DESCRIPTION:Das Planeten Quartett Dornach spielt auf besonderen
  Instrumenten nach Dr. Franz Thomastik\n\nJoseph Haydn \nDie sieben
  letzten Worte unseres Erlösers am Kreuze\, op. 51\n\nL'introduzione\,
  Maestoso ed Adagio\n1. Pater\, dimitte illis\, quia nesciunt\, quid
  faciunt\n2. Hodie medum eris in Paradiso\n3. Mulier ecce filius tuus\n4.
  Deus meus\, Deus meus\, utquid dereliquisti me?\n5. Sitio\n6. Consummatum
  est\n7. In manus tuas Domine\, commendo spiritum meum Il terremoto\n
 \nKatharina Schamböck-Pflüger\, Violine Ahorn\nAdolf Zinsstag\, Violine
  Kirsche\nHermann Geugis\, Viola Birke\nGotthard Killian\, Violoncello
  Esche\n\nEintritt frei\, Kollekte\n\nKontakt: archiv.buchthalen@ref-sh.ch
 \n\nWeitere Infos: https://www.ref-sh.ch/veranstaltung/164576
SUMMARY:Konzert Planeten Quartett Dornach
PRIORITY:5
X-MICROSOFT-CDO-IMPORTANCE:1
CLASS:PUBLIC
END:VEVENT
END:VCALENDAR
