BEGIN:VCALENDAR
PRODID:-//kirchenweb.ch gmbh//veranstaltungsausgabe v2.0//DE
VERSION:2.0
METHOD:PUBLISH
BEGIN:VEVENT
DTSTART:20240420T170000Z
DTEND:20240420T180000Z
LOCATION:Turnhalle Löhningen\, Schützengasse 38\, 8224 Löhningen
TRANSP:OPAQUE
SEQUENCE:0
UID:164459-veranstaltung@ref-sh.ch
DTSTAMP:20240316T163007Z
DESCRIPTION:Zweite Aufführung des Musical «Josef de Träumer»\, der
  Musical-Lagerwoche 2024. \n\nDer Eintritt ist frei\, es wird eine
  Kollekte geben.\n\nKontakt: Maja Ernst\n\nWeitere Infos:
  https://www.ref-sh.ch/veranstaltung/164459
SUMMARY:Aufführung Musical «Josef de Träumer»
PRIORITY:5
X-MICROSOFT-CDO-IMPORTANCE:1
CLASS:PUBLIC
END:VEVENT
END:VCALENDAR
