BEGIN:VCALENDAR
PRODID:-//kirchenweb.ch gmbh//veranstaltungsausgabe v2.0//DE
VERSION:2.0
METHOD:PUBLISH
BEGIN:VEVENT
DTSTART:20240424T070000Z
DTEND:20240424T093000Z
LOCATION:Pizzeria\, \,
TRANSP:OPAQUE
SEQUENCE:0
UID:164406-veranstaltung@ref-sh.ch
DTSTAMP:20240313T151409Z
DESCRIPTION:Kontakt: Sus\nSusanne Ryser\n\nWeitere Infos:
  https://www.ref-sh.ch/veranstaltung/164406
SUMMARY:Handarbeitsplausch
PRIORITY:5
X-MICROSOFT-CDO-IMPORTANCE:1
CLASS:PUBLIC
END:VEVENT
END:VCALENDAR
