BEGIN:VCALENDAR
PRODID:-//kirchenweb.ch gmbh//veranstaltungsausgabe v2.0//DE
VERSION:2.0
METHOD:PUBLISH
BEGIN:VEVENT
DTSTART:20240503T160000Z
DTEND:20240503T210000Z
LOCATION:Begegnungszentrum Rüdlingen\, Nackerstrasse 2\, 8455 Rüdlingen
TRANSP:OPAQUE
SEQUENCE:0
UID:164393-veranstaltung@ref-sh.ch
DTSTAMP:20240317T064044Z
DESCRIPTION:Die Kirchgemeinden Gächlingen und Löhningen-Guntmadingen
  sowie die Junge Kirche Klettgau laden zum dritten Generationenwochenende
  ein.\n\nVon Freitag\, 3. Mai bis Sonntag\, 5. Mai 2024\, sind wir im
  Begegnungszentrum in Rüdlingen und verbringen ein abwechslungsreiches
  Wochenende mit viel Zeit für Gespräche\, Erholung\, Sport\, Spiel und
  Spass und verschiedene freiwillige Aktivitäten. Auch feines Essen (für
  die Nachtessen werden wir vom Begegnungszentrum bekocht) wird natürlich
  nicht fehlen. Ausserdem werden wir gemeinsam singen und uns zum Thema
  «Vertrauen» durch biblische Geschichten inspirieren lassen.\n\nEs
  besteht die Möglichkeit vor Ort im Massenlager oder im Haupthaus in
  einem Hotelzimmer zu übernachten.\nMassenlager: In einem der beiden
  Gruppenhäuser (6-18 Betten pro Raum)\nHotel » nebenan: Nur limitierte
  Anzahl Plätze vorhanden\n\nAuch Tagesgäste sind willkommen
  (Übernachtung zuhause).\n\nDas Wochenende startet offiziell am Freitag\,
  3. Mai 2024 um 18 00h mit dem Abendessen und endet am Sonntag\, 5. Mai
  2024\, nach dem Gottesdienst. Genauere Informationen zum Programm folgen
  später.\n\nWir freuen uns auf ein Wochenende mit Menschen aller
  Generationen. \n\nKontakt: Maja Ernst\nSebastian Ebi\n\n\nWeitere Infos:
  https://www.ref-sh.ch/veranstaltung/164393
SUMMARY:Generationen-Wochenende 2024
PRIORITY:5
X-MICROSOFT-CDO-IMPORTANCE:1
CLASS:PUBLIC
END:VEVENT
END:VCALENDAR
