BEGIN:VCALENDAR
PRODID:-//kirchenweb.ch gmbh//veranstaltungsausgabe v2.0//DE
VERSION:2.0
METHOD:PUBLISH
BEGIN:VEVENT
DTSTART:20240516T053000Z
DTEND:20240516T163000Z
LOCATION:Sattel-Hochstuckli und Ägerisee\, \,
TRANSP:OPAQUE
SEQUENCE:0
UID:164335-veranstaltung@ref-sh.ch
DTSTAMP:20240508T143907Z
DESCRIPTION:Tagesausflug Sattel-Hochstuckli und Ägerisee\n\nUnsere
  Carreise führt uns auf einer schönen Route zur Talstation
  Sattel-Hochstuckli. Die erste Drehgondelbahn der Welt transportiert uns
  auf den Mostelberg. Von dort lässt sich das herrliche Panorama
  geniessen! Wer sich traut\, kann einen Spaziergang auf die 374 m lange
  Hängebrücke wagen oder eine Fahrt mit der Rodelbahn unternehmen.\nDen
  Zmittag geniessen wir im Berggasthaus und das Dessert mit einer
  Schifffahrt auf dem Ägerisee.\n\nKosten: 75.- (nicht inbegriffen sind
  die Getränke beim Mittagessen und auf dem Schiff)\n\nKontakt:
  barbara.rohrer@ref-sh.ch\n\nWeitere Infos:
  https://www.ref-sh.ch/veranstaltung/164335
SUMMARY:Tagesausflug Sattel-Hochstuckli und Ägerisee
PRIORITY:5
X-MICROSOFT-CDO-IMPORTANCE:1
CLASS:PUBLIC
END:VEVENT
END:VCALENDAR
