BEGIN:VCALENDAR
PRODID:-//kirchenweb.ch gmbh//veranstaltungsausgabe v2.0//DE
VERSION:2.0
METHOD:PUBLISH
BEGIN:VEVENT
DTSTART:20240405T120000Z
DTEND:20240405T130000Z
LOCATION:Gemeindehaussaal Hallau\, Hauptstrasse 44\, 8215 Hallau
TRANSP:OPAQUE
SEQUENCE:0
UID:163900-veranstaltung@ref-sh.ch
DTSTAMP:20240305T170825Z
DESCRIPTION:Das Senioren-Theater Hallau präsentiert «Nöd i dim
  Alter“.\nEin Lustspiel in einem Akt von Maya Gmür\n\nDer Eintritt ist
  frei.\nZum «Zvieri» offerieren wir Kuchen und Getränke.\n\n\nKontakt:
  manuela.baumann@ref-sh.ch\n\nWeitere Infos:
  https://www.ref-sh.ch/veranstaltung/163900
SUMMARY:Regionaler Seniorennachmittag
PRIORITY:5
X-MICROSOFT-CDO-IMPORTANCE:1
CLASS:PUBLIC
END:VEVENT
END:VCALENDAR
