BEGIN:VCALENDAR
PRODID:-//kirchenweb.ch gmbh//veranstaltungsausgabe v2.0//DE
VERSION:2.0
METHOD:PUBLISH
BEGIN:VEVENT
DTSTART:20240326T173000Z
DTEND:20240326T210000Z
LOCATION:Nachbar Stahlgiesserei\, zur Stahlgiesserei 15b\, 8200
  Schaffhausen
TRANSP:OPAQUE
SEQUENCE:0
UID:163834-veranstaltung@ref-sh.ch
DTSTAMP:20240311T064854Z
DESCRIPTION:Bist du auf der Suche nach Gleichgesinnten\, mit denen du ein
  Brett-\, Karten- oder Ratespiel machen kannst? Dann komm vorbei in der
  NACHBAR\, verschiedene Spiele stehen zur Auswahl oder bring dein
  Lieblingsspiel mit.\n\n\nKontakt: Amelie Alterauge\, Bewohnerin
  Stahlgiesserei\,\n\nWeitere Infos:
  https://www.ref-sh.ch/veranstaltung/163834
SUMMARY:Spieleabend
PRIORITY:5
X-MICROSOFT-CDO-IMPORTANCE:1
CLASS:PUBLIC
END:VEVENT
END:VCALENDAR
