BEGIN:VCALENDAR
PRODID:-//kirchenweb.ch gmbh//veranstaltungsausgabe v2.0//DE
VERSION:2.0
METHOD:PUBLISH
BEGIN:VEVENT
DTSTART:20240324T123000Z
DTEND:20240324T160000Z
LOCATION:Mesmerhuus Löhningen\, Kloster 14\, 8224 Löhningen
TRANSP:OPAQUE
SEQUENCE:0
UID:163832-veranstaltung@ref-sh.ch
DTSTAMP:20240305T163005Z
DESCRIPTION:Der TC organisiert einen Kleidertausch! Ab 13:30 kann man in
  Löhningen zum Kleidertausch kommen. Es gibt auch Kaffe und Kuchen! Es
  wird eine sehr coole Sache\, alle sind willkommen.\n\n\nWir versenden vor
  jedem TC genauere Informationen über einen dieser Kanäle:
 \nhttp://www.ref-sh.ch/gruppe/tc-info
 \nhttps://chat.whatsapp.com/Ce8rHfzVxHk090YHbRfU8o
 \nhttps://www.instagram.com/teensclubchlaeggi/\n\nDie Nächsten
  Teenagerclub Termine sind hier auffindbar:
 \nhttps://www.ref-sh.ch/kg/jungschi/agenda-tc\n\n\n\nKontakt: Jaël Powers
 \n\nWeitere Infos: https://www.ref-sh.ch/veranstaltung/163832
SUMMARY:Kleidertausch Teenager-Club
PRIORITY:5
X-MICROSOFT-CDO-IMPORTANCE:1
CLASS:PUBLIC
END:VEVENT
END:VCALENDAR
